BEGIN:VCALENDAR
VERSION:2.0
PRODID:-//Amberton University - ECPv6.15.18//NONSGML v1.0//EN
CALSCALE:GREGORIAN
METHOD:PUBLISH
X-WR-CALNAME:Amberton University
X-ORIGINAL-URL:https://amberton.edu
X-WR-CALDESC:Events for Amberton University
REFRESH-INTERVAL;VALUE=DURATION:PT1H
X-Robots-Tag:noindex
X-PUBLISHED-TTL:PT1H
BEGIN:VTIMEZONE
TZID:UTC
BEGIN:STANDARD
TZOFFSETFROM:+0000
TZOFFSETTO:+0000
TZNAME:UTC
DTSTART:20250101T000000
END:STANDARD
END:VTIMEZONE
BEGIN:VEVENT
DTSTART;TZID=UTC:20260428T190000
DTEND;TZID=UTC:20260428T200000
DTSTAMP:20260423T025904
CREATED:20260408T023021Z
LAST-MODIFIED:20260408T023613Z
UID:10000170-1777402800-1777406400@amberton.edu
SUMMARY:Summer 2026 - Online Information Session #1
DESCRIPTION:🌟 Join Us for an Online Information Session! 🌟   \nAre you ready to take the next step in your educational journey? Join us on Tuesday\, April 28th\, at 7 PM CST for an informative online session about our Spring session at Amberton University! \n🔍 Learn about our diverse programs\, flexible online learning options\, and how we can help you reach your academic goals. \nTogether\, let’s unlock your potential this Summer at Amberton University! 🎓✨ \n📅 Don’t miss out! RSVP Below to Save Your Spot! \n 
URL:https://amberton.edu/event/summer-2026-online-information-session-1/
LOCATION:Online\, United States
END:VEVENT
END:VCALENDAR