BEGIN:VCALENDAR
VERSION:2.0
PRODID:-//Amberton University - ECPv6.15.18//NONSGML v1.0//EN
CALSCALE:GREGORIAN
METHOD:PUBLISH
X-WR-CALNAME:Amberton University
X-ORIGINAL-URL:https://amberton.edu
X-WR-CALDESC:Events for Amberton University
REFRESH-INTERVAL;VALUE=DURATION:PT1H
X-Robots-Tag:noindex
X-PUBLISHED-TTL:PT1H
BEGIN:VTIMEZONE
TZID:UTC
BEGIN:STANDARD
TZOFFSETFROM:+0000
TZOFFSETTO:+0000
TZNAME:UTC
DTSTART:20240101T000000
END:STANDARD
END:VTIMEZONE
BEGIN:VEVENT
DTSTART;VALUE=DATE:20250322
DTEND;VALUE=DATE:20250323
DTSTAMP:20260423T205006
CREATED:20250120T182827Z
LAST-MODIFIED:20250217T141946Z
UID:10000117-1742601600-1742687999@amberton.edu
SUMMARY:Last Day to File for Spring 2025 Graduation
DESCRIPTION:The last day to file for the Spring 2025 Graduation is Saturday\, March 22\, 2025.  For more information about Graduation\, please visit our Graduation Info page. \nWinter & Spring 2025 Graduation will be on Thursday\, May 22\, 2025. \n  \n \n 
URL:https://amberton.edu/event/last-day-to-file-for-spring-2025-graduation/
LOCATION:Sunnyvale First Baptist Church\, 3018 N Beltline Road\, Sunnyvale\, 75182\, United States
ATTACH;FMTTYPE=image/jpeg:https://amberton.edu/wp-content/uploads/2025/01/GRADUATION-REMINDER-SPRING-AI.jpg
END:VEVENT
END:VCALENDAR