BEGIN:VCALENDAR
VERSION:2.0
PRODID:-//Amberton University - ECPv6.15.18//NONSGML v1.0//EN
CALSCALE:GREGORIAN
METHOD:PUBLISH
X-ORIGINAL-URL:https://amberton.edu
X-WR-CALDESC:Events for Amberton University
REFRESH-INTERVAL;VALUE=DURATION:PT1H
X-Robots-Tag:noindex
X-PUBLISHED-TTL:PT1H
BEGIN:VTIMEZONE
TZID:UTC
BEGIN:STANDARD
TZOFFSETFROM:+0000
TZOFFSETTO:+0000
TZNAME:UTC
DTSTART:20240101T000000
END:STANDARD
END:VTIMEZONE
BEGIN:VEVENT
DTSTART;VALUE=DATE:20251213
DTEND;VALUE=DATE:20251214
DTSTAMP:20260422T231527
CREATED:20251014T170139Z
LAST-MODIFIED:20251202T211849Z
UID:10000164-1765584000-1765670399@amberton.edu
SUMMARY:Last Day to File for Winter 2026 Graduation
DESCRIPTION:The last day to file for the Winter 2026 Graduation is Saturday\, December 13\, 2025.  For more information about Graduation\, please visit our Graduation Info page. \nWinter & Spring Graduation will be on Thursday\, May 21\, 2026. \n  \n  \n  \n 
URL:https://amberton.edu/event/last-day-to-file-for-winter-2026-graduation/
ATTACH;FMTTYPE=image/jpeg:https://amberton.edu/wp-content/uploads/2018/04/group-diverse-grads-throwing-caps-up-sky-scaled.jpg
END:VEVENT
END:VCALENDAR