BEGIN:VCALENDAR
VERSION:2.0
PRODID:-//Amberton University - ECPv6.15.18//NONSGML v1.0//EN
CALSCALE:GREGORIAN
METHOD:PUBLISH
X-ORIGINAL-URL:https://amberton.edu
X-WR-CALDESC:Events for Amberton University
REFRESH-INTERVAL;VALUE=DURATION:PT1H
X-Robots-Tag:noindex
X-PUBLISHED-TTL:PT1H
BEGIN:VTIMEZONE
TZID:UTC
BEGIN:STANDARD
TZOFFSETFROM:+0000
TZOFFSETTO:+0000
TZNAME:UTC
DTSTART:20230101T000000
END:STANDARD
END:VTIMEZONE
BEGIN:VEVENT
DTSTART;VALUE=DATE:20240622
DTEND;VALUE=DATE:20240623
DTSTAMP:20260424T153419
CREATED:20240420T194045Z
LAST-MODIFIED:20240420T194140Z
UID:10000072-1719014400-1719100799@amberton.edu
SUMMARY:Last Day to File for Summer 2024 Graduation
DESCRIPTION:The last day to file for the Summer 2024 Graduation is Saturday\, June 22\, 2024.  For more information about Graduation\, please visit our Graduation Info page.
URL:https://amberton.edu/event/last-day-to-file-for-summer-2024-graduation/
LOCATION:Virtual Venue\, United States
ATTACH;FMTTYPE=image/jpeg:https://amberton.edu/wp-content/uploads/2024/04/SUMMER-GRADUATION-AI.jpg
END:VEVENT
END:VCALENDAR