BEGIN:VCALENDAR
VERSION:2.0
PRODID:-//Amberton University - ECPv6.15.18//NONSGML v1.0//EN
CALSCALE:GREGORIAN
METHOD:PUBLISH
X-WR-CALNAME:Amberton University
X-ORIGINAL-URL:https://amberton.edu
X-WR-CALDESC:Events for Amberton University
REFRESH-INTERVAL;VALUE=DURATION:PT1H
X-Robots-Tag:noindex
X-PUBLISHED-TTL:PT1H
BEGIN:VTIMEZONE
TZID:UTC
BEGIN:STANDARD
TZOFFSETFROM:+0000
TZOFFSETTO:+0000
TZNAME:UTC
DTSTART:20250101T000000
END:STANDARD
END:VTIMEZONE
BEGIN:VEVENT
DTSTART;TZID=UTC:20260429T123000
DTEND;TZID=UTC:20260429T133000
DTSTAMP:20260422T100633
CREATED:20260408T030502Z
LAST-MODIFIED:20260408T030502Z
UID:10000171-1777465800-1777469400@amberton.edu
SUMMARY:Alumni: Lunch & Learn on Zoom - April 29th\, 2026
DESCRIPTION:🌐 Join Us for Our Alumni: Lunch & Learn on Zoom! 🎉   \n📅 Date: Wednesday\, April 29th\n🕡 Time: 12:30 – 1:30 PM CST \n  \nPlease join us for an upcoming Zoom Lunch and Learn on Wednesday\, April 29th\, 12:30 – 1:30 PM CST\, designed to give you valuable insights into what’s happening in today’s marketplace. \nThis interactive session will explore emerging economic trends\, shifts in the job market\, and the evolving demands shaping business and industry. Whether you’re a professional navigating career transitions or simply interested in staying informed\, this discussion will provide practical takeaways and thought-provoking perspectives. \nSpread the word and tag your fellow alumni! We can’t wait to see you there! 🎓💼 \nDon’t miss out on this chance to enhance your network and interact with fellow alumni!  RSVP Below! \n 
URL:https://amberton.edu/event/alumni-lunch-and-learn-on-zoom/
LOCATION:Online\, United States
END:VEVENT
END:VCALENDAR