BEGIN:VCALENDAR
VERSION:2.0
PRODID:-//Amberton University - ECPv6.15.18//NONSGML v1.0//EN
CALSCALE:GREGORIAN
METHOD:PUBLISH
X-WR-CALNAME:Amberton University
X-ORIGINAL-URL:https://amberton.edu
X-WR-CALDESC:Events for Amberton University
REFRESH-INTERVAL;VALUE=DURATION:PT1H
X-Robots-Tag:noindex
X-PUBLISHED-TTL:PT1H
BEGIN:VTIMEZONE
TZID:UTC
BEGIN:STANDARD
TZOFFSETFROM:+0000
TZOFFSETTO:+0000
TZNAME:UTC
DTSTART:20230101T000000
END:STANDARD
END:VTIMEZONE
BEGIN:VEVENT
DTSTART;VALUE=DATE:20240201
DTEND;VALUE=DATE:20240202
DTSTAMP:20260424T223625
CREATED:20231027T192853Z
LAST-MODIFIED:20231027T193014Z
UID:10000052-1706745600-1706831999@amberton.edu
SUMMARY:Registration for Spring 2024 Begins!
DESCRIPTION:Registration for Spring 2024 Begins!  Sign up today at:  https://sis.amberton.edu/campusweb/web.php?web=LOGIN \nSpring Classes run from Saturday\, March 9\, 2024\, through Thursday\, May 16\, 2024. \n  \n 
URL:https://amberton.edu/event/registration-for-spring-2024-begins/
LOCATION:Online\, United States
END:VEVENT
BEGIN:VEVENT
DTSTART;TZID=UTC:20240208T183000
DTEND;TZID=UTC:20240208T193000
DTSTAMP:20260424T223625
CREATED:20240110T175921Z
LAST-MODIFIED:20240110T175921Z
UID:10000055-1707417000-1707420600@amberton.edu
SUMMARY:Spring 2024 - Virtual Information Session #1
DESCRIPTION:Have questions about Amberton? Join us on Zoom\, Thursday\, February 8th from 6:30 pm to 7:30 pm!  RSVP at Info@Amberton.edu
URL:https://amberton.edu/event/spring-2024-info-session-1/
LOCATION:Online\, United States
END:VEVENT
BEGIN:VEVENT
DTSTART;VALUE=DATE:20240222
DTEND;VALUE=DATE:20240223
DTSTAMP:20260424T223625
CREATED:20230626T174913Z
LAST-MODIFIED:20230914T160043Z
UID:10000027-1708560000-1708646399@amberton.edu
SUMMARY:Last Day of the Winter 2024 Session
DESCRIPTION:Last day of the Winter session is February 22\, 2024.  Spring 2024 classes will begin on March 9\, 2024.
URL:https://amberton.edu/event/last-day-of-the-winter-2024-session/
LOCATION:Online\, United States
END:VEVENT
END:VCALENDAR